BEGIN:VCALENDAR
VERSION:2.0
PRODID:-//ChamberMaster//Event Calendar 2.0//EN
METHOD:PUBLISH
X-PUBLISHED-TTL:P3D
REFRESH-INTERVAL:P3D
CALSCALE:GREGORIAN
BEGIN:VEVENT
DTSTART:20100410T160000Z
DTEND:20100410T190000Z
X-MICROSOFT-CDO-ALLDAYEVENT:FALSE
SUMMARY:Modern Woodmen BBQ Brisket Dinner To Go Benefiting Nicholas "Nick" Peters
DESCRIPTION:Modern Woodmen BBQ Brisket Dinner To Go benefiting Nicholas "Nick" Peters.  Modern Woodmen Camp 13276 is sponsoring a ''Matching Fund Program'' on Saturday\, April 10\, 2010 from 11:00 a.m. to 2:00 p.m. at Harlingen Homes real estate office located at 1201 East Harrison in Harlingen.  Price is $6.00 per plate and includes BBQ brisket\, rice\, beans and all the trimmings.  All proceeds raised will be matched by the Home Office of    \nModern Woodmen of America up to $2\,500.  The money will be donated to Nicholas ''Nick'' Peters to help alleviate medical expenses.  As a fraternal society\, Modern Woodmen places a strong emphasis on helping its members and the community. Our Matching Funds Program is one of the many ways we assist the community in which we live.  Thank you for your support.  To purchase tickets\, please contact Lee Guerra at 956.564.9048 or by email at lee.e.guerra@mwarep.org\, or Wilson Heacock at 956244.4171 or by email at wilson.heacock@mwarep.org
X-ALT-DESC;FMTTYPE=text/html:Modern Woodmen BBQ Brisket Dinner To Go benefiting Nicholas "Nick" Peters.  Modern Woodmen Camp 13276 is sponsoring a ''Matching Fund Program'' on Saturday\, April 10\, 2010 from 11:00 a.m. to 2:00 p.m. at Harlingen Homes real estate office located at 1201 East Harrison in Harlingen.  Price is $6.00 per plate and includes BBQ brisket\, rice\, beans and all the trimmings.  All proceeds raised will be matched by the Home Office of    \nModern Woodmen of America up to $2\,500.  The money will be donated to Nicholas ''Nick'' Peters to help alleviate medical expenses.  As a fraternal society\, Modern Woodmen places a strong emphasis on helping its members and the community. Our Matching Funds Program is one of the many ways we assist the community in which we live.  Thank you for your support.  To purchase tickets\, please contact Lee Guerra at 956.564.9048 or by email at lee.e.guerra@mwarep.org\, or Wilson Heacock at 956244.4171 or by email at wilson.heacock@mwarep.org\n
LOCATION:
UID:e.1828.2436
SEQUENCE:3
DTSTAMP:20260422T081103Z
URL:https://business.harlingen.com/events/details/modern-woodmen-bbq-brisket-dinner-to-go-benefiting-nicholas-nick-peters-04-10-2010-2436
END:VEVENT

END:VCALENDAR
