BEGIN:VCALENDAR
VERSION:2.0
PRODID:-//ChamberMaster//Event Calendar 2.0//EN
METHOD:PUBLISH
X-PUBLISHED-TTL:P3D
REFRESH-INTERVAL:P3D
CALSCALE:GREGORIAN
BEGIN:VEVENT
DTSTART;VALUE=DATE:20100817
DTEND;VALUE=DATE:20100818
TRANSP:TRANSPARENT
X-MICROSOFT-CDO-ALLDAYEVENT:TRUE
SUMMARY:Modern Woodmen Dinner
DESCRIPTION:Please join us for dinner at the newly remolded El Gallito Restaurant in San Benito on Thursday\, August 26\, 2010 starting at 6:30 pm.  Price $5.00 + Tax Ages 12 & Up.  (Regular Dinner Price $8.99 + Tax+Beverage).         Choice of Mex. Combo Plate\, Chicken Fajitas Plate\, and Beef or Chicken Taco Salad.  $3.00 + Tax Ages 11 & Under for Chicken strips or Chicken Quesadillas.  Price INCLUDES Soft beverage!  Bring a family member and a friend\, guest welcomed. Chance to win a door prize.  Please RSVP by email or phone call to Lee E. Guerra at\n956.564.9048 or email to lee.e.guerra@mwarep.org
X-ALT-DESC;FMTTYPE=text/html:Please join us for dinner at the newly remolded El Gallito Restaurant in San Benito on Thursday\, August 26\, 2010 starting at 6:30 pm.  Price $5.00 + Tax Ages 12 & Up.  (Regular Dinner Price $8.99 + Tax+Beverage).         Choice of Mex. Combo Plate\, Chicken Fajitas Plate\, and Beef or Chicken Taco Salad.  $3.00 + Tax Ages 11 & Under for Chicken strips or Chicken Quesadillas.  Price INCLUDES Soft beverage!  Bring a family member and a friend\, guest welcomed. Chance to win a door prize.  Please RSVP by email or phone call to Lee E. Guerra at\n956.564.9048 or email to lee.e.guerra@mwarep.org\n
LOCATION:
UID:e.1828.2659
SEQUENCE:3
DTSTAMP:20260422T014456Z
URL:https://business.harlingen.com/events/details/modern-woodmen-dinner-08-17-2010-2659
END:VEVENT

END:VCALENDAR
