BEGIN:VCALENDAR
VERSION:2.0
PRODID:-//ChamberMaster//Event Calendar 2.0//EN
METHOD:PUBLISH
X-PUBLISHED-TTL:P3D
REFRESH-INTERVAL:P3D
CALSCALE:GREGORIAN
BEGIN:VEVENT
DTSTART:20120209T010000Z
DTEND:20120209T010000Z
X-MICROSOFT-CDO-ALLDAYEVENT:FALSE
SUMMARY:"Moe Bandy" in Concert
DESCRIPTION:Live in concert\, open to the public. Come hear all of your favorite #1 hits from this legendary artist. Tickets are only $12 in advance or $15 at the door. Call 423-1170 for tickets and information.
X-ALT-DESC;FMTTYPE=text/html:Live in concert\, open to the public. Come hear all of your favorite #1 hits from this legendary artist. Tickets are only $12 in advance or $15 at the door. Call 423-1170 for tickets and information.  \n
LOCATION:
UID:e.1828.3377
SEQUENCE:3
DTSTAMP:20260420T200140Z
URL:https://business.harlingen.com/events/details/moe-bandy-in-concert-02-08-2012-3377
END:VEVENT

END:VCALENDAR
