BEGIN:VCALENDAR
VERSION:2.0
PRODID:-//ChamberMaster//Event Calendar 2.0//EN
METHOD:PUBLISH
X-PUBLISHED-TTL:P3D
REFRESH-INTERVAL:P3D
CALSCALE:GREGORIAN
BEGIN:VEVENT
DTSTART:20120410T223000Z
DTEND:20120411T000000Z
X-MICROSOFT-CDO-ALLDAYEVENT:FALSE
SUMMARY:Molina Law Group Open House & Ribbon Cutting
DESCRIPTION:Come join Molina Law Group for their Open House & Ribbon Cutting. Door prizes and live music with Hector Guzman from the "All Nighter's!" enjoy some Fajita tacos and aguas frescas.
X-ALT-DESC;FMTTYPE=text/html:Come join Molina Law Group for their Open House & Ribbon Cutting. Door prizes and live music with Hector Guzman from the "All Nighter's!" enjoy some Fajita tacos and aguas frescas.
LOCATION:Please park in the Baptist Church parking lot across the street.
UID:e.1828.3547
SEQUENCE:3
DTSTAMP:20260420T163620Z
URL:https://business.harlingen.com/events/details/molina-law-group-open-house-ribbon-cutting-04-10-2012-3547
END:VEVENT

END:VCALENDAR
