BEGIN:VCALENDAR
VERSION:2.0
PRODID:-//ChamberMaster//Event Calendar 2.0//EN
METHOD:PUBLISH
X-PUBLISHED-TTL:P3D
REFRESH-INTERVAL:P3D
CALSCALE:GREGORIAN
BEGIN:VEVENT
DTSTART:20120920T153000Z
DTEND:20120920T153000Z
X-MICROSOFT-CDO-ALLDAYEVENT:FALSE
SUMMARY:Monarch Ballet Studios Grand Opening & Ribbon Cutting
DESCRIPTION:Come join us for our grand opening and ribbon cutting celebration!  Refreshments will be served!
X-ALT-DESC;FMTTYPE=text/html:Come join us for our grand opening and ribbon cutting celebration!  Refreshments will be served!\n
LOCATION:
UID:e.1828.3945
SEQUENCE:3
DTSTAMP:20260420T084353Z
URL:https://business.harlingen.com/events/details/monarch-ballet-studios-grand-opening-ribbon-cutting-09-20-2012-3945
END:VEVENT

END:VCALENDAR
