BEGIN:VCALENDAR
VERSION:2.0
PRODID:-//ChamberMaster//Event Calendar 2.0//EN
METHOD:PUBLISH
X-PUBLISHED-TTL:P3D
REFRESH-INTERVAL:P3D
CALSCALE:GREGORIAN
BEGIN:VEVENT
DTSTART:20100829T000000Z
DTEND:20100829T000000Z
X-MICROSOFT-CDO-ALLDAYEVENT:FALSE
SUMMARY:Monica's House & Maggie's House 12th Annual Calling All Angels Gala
DESCRIPTION:Join us for an evening of spirits\, dinner\, dancing\, live and silent auctions.  Sponsorships available.  Tickets $100 per person.  Cocktail attire.  The gala benefits Monica's House & Maggie's House\, both Cameron County children's advocacy centers.  For more information\, please call (956) 986-2770.
X-ALT-DESC;FMTTYPE=text/html:Join us for an evening of spirits\, dinner\, dancing\, live and silent auctions.  Sponsorships available.  Tickets $100 per person.  Cocktail attire.  The gala benefits Monica's House & Maggie's House\, both Cameron County children's advocacy centers.  For more information\, please call (956) 986-2770.
LOCATION:
UID:e.1828.2705
SEQUENCE:3
DTSTAMP:20260422T002059Z
URL:https://business.harlingen.com/events/details/monica-s-house-maggie-s-house-12th-annual-calling-all-angels-gala-08-28-2010-2705
END:VEVENT

END:VCALENDAR
