BEGIN:VCALENDAR
VERSION:2.0
PRODID:-//ChamberMaster//Event Calendar 2.0//EN
METHOD:PUBLISH
X-PUBLISHED-TTL:P3D
REFRESH-INTERVAL:P3D
CALSCALE:GREGORIAN
BEGIN:VEVENT
DTSTART:20091029T233000Z
DTEND:20091030T023000Z
X-MICROSOFT-CDO-ALLDAYEVENT:FALSE
SUMMARY:Murder\, Mayhem \, and Scandal Cemetery Tour
DESCRIPTION:Take a tour of the Old City Cemetery and discover the sordid secrets that even the dead can't hide.  Dr. Anthony Knopp of UTB/TSC and BHA Programs Coordinator Rhiannon Cizon will guide the tours.\n\nThe tours are available at 6:30\, 7:30\, and 8:30.  They are $5 for BHA members and $10 for non-members.  Registration is required and spaces are limited\, so call today!
X-ALT-DESC;FMTTYPE=text/html:Take a tour of the Old City Cemetery and discover the sordid secrets that even the dead can't hide.  Dr. Anthony Knopp of UTB/TSC and BHA Programs Coordinator Rhiannon Cizon will guide the tours.\n\nThe tours are available at 6:30\, 7:30\, and 8:30.  They are $5 for BHA members and $10 for non-members.  Registration is required and spaces are limited\, so call today!
LOCATION:Take US 77/83 to the 6th St exit. The Old City Cemetery Center is half way down on the left hand side. Parking is available on Monroe and in the lot at the corner of 6th and Madison.
UID:e.1828.2112
SEQUENCE:3
DTSTAMP:20260422T112003Z
URL:https://business.harlingen.com/events/details/murder-mayhem-and-scandal-cemetery-tour-10-29-2009-2112
END:VEVENT

END:VCALENDAR
