BEGIN:VCALENDAR
VERSION:2.0
PRODID:-//ChamberMaster//Event Calendar 2.0//EN
METHOD:PUBLISH
X-PUBLISHED-TTL:P3D
REFRESH-INTERVAL:P3D
CALSCALE:GREGORIAN
BEGIN:VEVENT
DTSTART:20120426T233000Z
DTEND:20120426T233000Z
X-MICROSOFT-CDO-ALLDAYEVENT:FALSE
SUMMARY:Museum of Port Isabel "Telling Our Stories"
DESCRIPTION:"Telling Our Stories" is an educational program aimed to preserving the heritage of the City of Port Isabel and the Laguna Madre area. For more information on Telling Our Stories or to help sponsor an event\, contact Jeannie Marie A. Flores at 956-943-7602 or visit www.portisabelmuseums.com or you may also send an email to jrivera@copitx.com.
X-ALT-DESC;FMTTYPE=text/html:"Telling Our Stories" is an educational program aimed to preserving the heritage of the City of Port Isabel and the Laguna Madre area. For more information on Telling Our Stories or to help sponsor an event\, contact Jeannie Marie A. Flores at 956-943-7602 or visit www.portisabelmuseums.com or you may also send an email to jrivera@copitx.com.
LOCATION:
UID:e.1828.3628
SEQUENCE:3
DTSTAMP:20260420T163756Z
URL:https://business.harlingen.com/events/details/museum-of-port-isabel-telling-our-stories-04-26-2012-3628
END:VEVENT

END:VCALENDAR
