BEGIN:VCALENDAR
VERSION:2.0
PRODID:-//ChamberMaster//Event Calendar 2.0//EN
METHOD:PUBLISH
X-PUBLISHED-TTL:P3D
REFRESH-INTERVAL:P3D
CALSCALE:GREGORIAN
BEGIN:VEVENT
DTSTART:20100213T013000Z
DTEND:20100213T013000Z
X-MICROSOFT-CDO-ALLDAYEVENT:FALSE
SUMMARY:Music of the 40's\, 50's & 60's
DESCRIPTION:An evening of nostalgia featuring vocalist Carlos R. Canos.  Tickets $15 per person.  To purchase tickets call 956-412-7529.
X-ALT-DESC;FMTTYPE=text/html:An evening of nostalgia featuring vocalist Carlos R. Canos.  Tickets $15 per person.  To purchase tickets call 956-412-7529.
LOCATION:
UID:e.1828.2371
SEQUENCE:3
DTSTAMP:20260422T095137Z
URL:https://business.harlingen.com/events/details/music-of-the-40-s-50-s-60-s-02-12-2010-2371
END:VEVENT

END:VCALENDAR
