BEGIN:VCALENDAR
VERSION:2.0
PRODID:-//ChamberMaster//Event Calendar 2.0//EN
METHOD:PUBLISH
X-PUBLISHED-TTL:P3D
REFRESH-INTERVAL:P3D
CALSCALE:GREGORIAN
BEGIN:VEVENT
DTSTART:20100618T230000Z
DTEND:20100618T230000Z
X-MICROSOFT-CDO-ALLDAYEVENT:FALSE
SUMMARY:Musica de la Frontera Conjunto Concert
DESCRIPTION:The Brownsville Historical Association invites the community to enjoy the sounds of local artist/musician\, Cande Aguilar\, as he performs traditional Conjunto music! This event is in conjunction with San Antonio photographer John Dyer's exhibit: "Conjunto\, Voz del Pueblo"\, which is currently on display at the Brownsville Heritage Complex. The cost will be $5 for members\, and $10 for non-members.
X-ALT-DESC;FMTTYPE=text/html:The Brownsville Historical Association invites the community to enjoy the sounds of local artist/musician\, Cande Aguilar\, as he performs traditional Conjunto music! This event is in conjunction with San Antonio photographer John Dyer's exhibit: "Conjunto\, Voz del Pueblo"\, which is currently on display at the Brownsville Heritage Complex. The cost will be $5 for members\, and $10 for non-members.
LOCATION:Brownsville Heritage Complex
UID:e.1828.2537
SEQUENCE:3
DTSTAMP:20260422T031940Z
URL:https://business.harlingen.com/events/details/musica-de-la-frontera-conjunto-concert-06-18-2010-2537
END:VEVENT

END:VCALENDAR
