BEGIN:VCALENDAR
VERSION:2.0
PRODID:-//ChamberMaster//Event Calendar 2.0//EN
METHOD:PUBLISH
X-PUBLISHED-TTL:P3D
REFRESH-INTERVAL:P3D
CALSCALE:GREGORIAN
BEGIN:VEVENT
DTSTART:20120110T160000Z
DTEND:20120110T160000Z
X-MICROSOFT-CDO-ALLDAYEVENT:FALSE
SUMMARY:N.T.C. Drug Testing Services\, Inc. Grand Opening
DESCRIPTION:Come celebrate the grand opening and ribbon cutting ceremony of N.T.C. Drug Testing Services. Meet the staff\, tour the facility\, and enjoy cookies\, coffee\, punch\, and cake.
X-ALT-DESC;FMTTYPE=text/html:Come celebrate the grand opening and ribbon cutting ceremony of N.T.C. Drug Testing Services. Meet the staff\, tour the facility\, and enjoy cookies\, coffee\, punch\, and cake. \n
LOCATION:
UID:e.1828.3340
SEQUENCE:3
DTSTAMP:20260420T225527Z
URL:https://business.harlingen.com/events/details/n-t-c-drug-testing-services-inc-grand-opening-01-10-2012-3340
END:VEVENT

END:VCALENDAR
