BEGIN:VCALENDAR
VERSION:2.0
PRODID:-//ChamberMaster//Event Calendar 2.0//EN
METHOD:PUBLISH
X-PUBLISHED-TTL:P3D
REFRESH-INTERVAL:P3D
CALSCALE:GREGORIAN
BEGIN:VEVENT
DTSTART:20091107T170000Z
DTEND:20091231T210000Z
X-MICROSOFT-CDO-ALLDAYEVENT:FALSE
SUMMARY:NASA Space Adventures Traveling Exhibit
DESCRIPTION:The NASA space exhibit will be landing at the Children's Museum of Brownsville. The children's exhibit includes the following: Rotating Space Shuttle Orbiter\, Exploring the Solar System\, Moon Rock Replicas\, Astronaut Space Suit\, Spaceflight Accessories\, and Astronaut Food Samples. Join us for the Grand opening event at the Museum on November 7 from 11 AM to 3 PM. The exhibit will be on the Museum through December 2009.
X-ALT-DESC;FMTTYPE=text/html:The NASA space exhibit will be landing at the Children's Museum of Brownsville. The children's exhibit includes the following: Rotating Space Shuttle Orbiter\, Exploring the Solar System\, Moon Rock Replicas\, Astronaut Space Suit\, Spaceflight Accessories\, and Astronaut Food Samples. Join us for the Grand opening event at the Museum on November 7 from 11 AM to 3 PM. The exhibit will be on the Museum through December 2009.
LOCATION:Children's Museum of Brownsville
UID:e.1828.2197
SEQUENCE:3
DTSTAMP:20260422T130108Z
URL:https://business.harlingen.com/events/details/nasa-space-adventures-traveling-exhibit-11-07-2009-2197
END:VEVENT

END:VCALENDAR
