BEGIN:VCALENDAR
VERSION:2.0
PRODID:-//ChamberMaster//Event Calendar 2.0//EN
METHOD:PUBLISH
X-PUBLISHED-TTL:P3D
REFRESH-INTERVAL:P3D
CALSCALE:GREGORIAN
BEGIN:VEVENT
DTSTART;VALUE=DATE:20110429
DTEND;VALUE=DATE:20110502
TRANSP:TRANSPARENT
X-MICROSOFT-CDO-ALLDAYEVENT:TRUE
SUMMARY:National Adoptothon Weekend
DESCRIPTION:Sponsored by The Humane Society of Harlingen and Pet Smart\nFriday April 29 2:30 to 6PM\nSaturday April 30th 10AM to 6 PM\nSunday May 1st 10AM To 4PM\n\nOther agencies bringing dogs are:\nTip O Tex Rescue\, PAWS\, Laguna Madre Humane Society\, Pick of The Litter Rescue\, Smith Ranch Rescue\, and others. Dogs available to adoption on the spot! Free Popcorn\, Face Painting and Avant is providing a water station
X-ALT-DESC;FMTTYPE=text/html:Sponsored by The Humane Society of Harlingen and Pet Smart\nFriday April 29 2:30 to 6PM\nSaturday April 30th 10AM to 6 PM\nSunday May 1st 10AM To 4PM\n\nOther agencies bringing dogs are:\nTip O Tex Rescue\, PAWS\, Laguna Madre Humane Society\, Pick of The Litter Rescue\, Smith Ranch Rescue\, and others. Dogs available to adoption on the spot! Free Popcorn\, Face Painting and Avant is providing a water station\n
LOCATION:
UID:e.1828.3031
SEQUENCE:3
DTSTAMP:20260421T110845Z
URL:https://business.harlingen.com/events/details/national-adoptothon-weekend-04-29-2011-3031
END:VEVENT

END:VCALENDAR
