BEGIN:VCALENDAR
VERSION:2.0
PRODID:-//ChamberMaster//Event Calendar 2.0//EN
METHOD:PUBLISH
X-PUBLISHED-TTL:P3D
REFRESH-INTERVAL:P3D
CALSCALE:GREGORIAN
BEGIN:VEVENT
DTSTART:20120206T140000Z
DTEND:20120206T180000Z
X-MICROSOFT-CDO-ALLDAYEVENT:FALSE
SUMMARY:NATIONAL HEART MONTH
DESCRIPTION:Valley Baptist will offer low-cost Mobile Lab Screenings\, which include blood work and bone density screenings only\, in Harlingen on Monday\, Feb. 6th from 8 a.m. to 12 noon\, at Wal-Mart.\nTo schedule an appointment for the mobile health clinic\, or for a complete schedule of other dates and locations\, please call toll-free 1-888-902-5433. \n\nFREE LEG SCREENINGS\, LOW-COST MOBILE LAB SCREENINGS OFFERED FOR VALLEY RESIDENTS DURING  \n\nNATIONAL HEART MONTH\n \nValley Baptist Mobile Unit to be in Harlingen in February. When was the last time you had your cholesterol checked\, or had an assessment for your chances of developing diabetes? A mobile health unit from Valley Baptist Health System is making it more convenient for Harlingen area residents to receive free and low-cost screenings that\, in some cases\, can help save their life and improve their health.\n   \nThe 42-foot\, bus-size mobile health unit is making important health screenings more accessible and promoting cardiac fitness and health at stores\, businesses\, churches\, RV parks and other locations across the Valley. For example\, free peripheral (legs) arterial disease screenings (ankle brachial index) will be held in Harlingen on Monday\, Feb. 27 from 8 a.m. to 12 noon at Wal-Mart (1801 W. Lincoln Drive at Expressway 77/83).
X-ALT-DESC;FMTTYPE=text/html:Valley Baptist will offer low-cost Mobile Lab Screenings\, which include blood work and bone density screenings only\, in Harlingen on Monday\, Feb. 6th from 8 a.m. to 12 noon\, at Wal-Mart.\nTo schedule an appointment for the mobile health clinic\, or for a complete schedule of other dates and locations\, please call toll-free 1-888-902-5433. \n\nFREE LEG SCREENINGS\, LOW-COST MOBILE LAB SCREENINGS OFFERED FOR VALLEY RESIDENTS DURING  \n\nNATIONAL HEART MONTH\n \nValley Baptist Mobile Unit to be in Harlingen in February. When was the last time you had your cholesterol checked\, or had an assessment for your chances of developing diabetes? A mobile health unit from Valley Baptist Health System is making it more convenient for Harlingen area residents to receive free and low-cost screenings that\, in some cases\, can help save their life and improve their health.\n   \nThe 42-foot\, bus-size mobile health unit is making important health screenings more accessible and promoting cardiac fitness and health at stores\, businesses\, churches\, RV parks and other locations across the Valley. For example\, free peripheral (legs) arterial disease screenings (ankle brachial index) will be held in Harlingen on Monday\, Feb. 27 from 8 a.m. to 12 noon at Wal-Mart (1801 W. Lincoln Drive at Expressway 77/83).\n\n
LOCATION:
UID:e.1828.3397
SEQUENCE:3
DTSTAMP:20260420T200115Z
URL:https://business.harlingen.com/events/details/national-heart-month-02-06-2012-3397
END:VEVENT

END:VCALENDAR
