BEGIN:VCALENDAR
VERSION:2.0
PRODID:-//ChamberMaster//Event Calendar 2.0//EN
METHOD:PUBLISH
X-PUBLISHED-TTL:P3D
REFRESH-INTERVAL:P3D
CALSCALE:GREGORIAN
BEGIN:VEVENT
DTSTART:20120227T140000Z
DTEND:20120227T180000Z
X-MICROSOFT-CDO-ALLDAYEVENT:FALSE
SUMMARY:NATIONAL HEART MONTH
DESCRIPTION:FREE LEG SCREENINGS\, LOW-COST MOBILE LAB SCREENINGS OFFERED FOR VALLEY RESIDENTS DURING  \n\nNATIONAL HEART MONTH\n \nValley Baptist Mobile Unit to be in Harlingen in February. When was the last time you had your cholesterol checked\, or had an assessment for your chances of developing diabetes? A mobile health unit from Valley Baptist Health System is making it more convenient for Harlingen area residents to receive free and low-cost screenings that\, in some cases\, can help save their life and improve their health.\n   \nThe 42-foot\, bus-size mobile health unit is making important health screenings more accessible and promoting cardiac fitness and health at stores\, businesses\, churches\, RV parks and other locations across the Valley. For example\, free peripheral (legs) arterial disease screenings (ankle brachial index) will be held in Harlingen.\n\nIn addition\, Valley Baptist will offer low-cost Mobile Lab Screenings\, which include blood work and bone density screenings only\, in Harlingen on Monday\, Feb. 6th from 8 a.m. to 12 noon\, also at Wal-Mart.\nTo schedule an appointment for the mobile health clinic\, or for a complete schedule of other dates and locations\, please call toll-free 1-888-902-5433.
X-ALT-DESC;FMTTYPE=text/html:FREE LEG SCREENINGS\, LOW-COST MOBILE LAB SCREENINGS OFFERED FOR VALLEY RESIDENTS DURING  \n\nNATIONAL HEART MONTH\n \nValley Baptist Mobile Unit to be in Harlingen in February. When was the last time you had your cholesterol checked\, or had an assessment for your chances of developing diabetes? A mobile health unit from Valley Baptist Health System is making it more convenient for Harlingen area residents to receive free and low-cost screenings that\, in some cases\, can help save their life and improve their health.\n   \nThe 42-foot\, bus-size mobile health unit is making important health screenings more accessible and promoting cardiac fitness and health at stores\, businesses\, churches\, RV parks and other locations across the Valley. For example\, free peripheral (legs) arterial disease screenings (ankle brachial index) will be held in Harlingen.\n\nIn addition\, Valley Baptist will offer low-cost Mobile Lab Screenings\, which include blood work and bone density screenings only\, in Harlingen on Monday\, Feb. 6th from 8 a.m. to 12 noon\, also at Wal-Mart.\nTo schedule an appointment for the mobile health clinic\, or for a complete schedule of other dates and locations\, please call toll-free 1-888-902-5433. \n\n \n
LOCATION:
UID:e.1828.3412
SEQUENCE:3
DTSTAMP:20260420T200141Z
URL:https://business.harlingen.com/events/details/national-heart-month-02-27-2012-3412
END:VEVENT

END:VCALENDAR
