BEGIN:VCALENDAR
VERSION:2.0
PRODID:-//ChamberMaster//Event Calendar 2.0//EN
METHOD:PUBLISH
X-PUBLISHED-TTL:P3D
REFRESH-INTERVAL:P3D
CALSCALE:GREGORIAN
BEGIN:VEVENT
DTSTART:20110505T230000Z
DTEND:20110506T010000Z
X-MICROSOFT-CDO-ALLDAYEVENT:FALSE
SUMMARY:National Mom's Nite Out
DESCRIPTION:Join Valle Vista Mall as they celebrate Mom! Makeup demonstrations\, hors d' oeuvres\, wine tasting\, and door prizes!\nFREE Rose and Mom's Nite Out swag bag to the first 100 Moms who register in person.
X-ALT-DESC;FMTTYPE=text/html:Join Valle Vista Mall as they celebrate Mom! Makeup demonstrations\, hors d' oeuvres\, wine tasting\, and door prizes!\nFREE Rose and Mom's Nite Out swag bag to the first 100 Moms who register in person.\n
LOCATION:Valle Vista Mall- Forever 21 Court
UID:e.1828.3046
SEQUENCE:3
DTSTAMP:20260421T111145Z
URL:https://business.harlingen.com/events/details/national-mom-s-nite-out-05-05-2011-3046
END:VEVENT

END:VCALENDAR
