BEGIN:VCALENDAR
VERSION:2.0
PRODID:-//ChamberMaster//Event Calendar 2.0//EN
METHOD:PUBLISH
X-PUBLISHED-TTL:P3D
REFRESH-INTERVAL:P3D
CALSCALE:GREGORIAN
BEGIN:VEVENT
DTSTART;VALUE=DATE:20120807
DTEND;VALUE=DATE:20120808
TRANSP:TRANSPARENT
X-MICROSOFT-CDO-ALLDAYEVENT:TRUE
SUMMARY:National Night Out...America's Night Out Against Crime
DESCRIPTION:The Harlingen Police Department Needs Your Support!  National Night Out...America's Night Out Against Crime is being held on Tuesday\, August 7th\, and they are looking for monetary donations and/or your donation of goods and services.  This is a community-wide event for family and friends to spend the evening outdoors having lots of fun!  If you would like to help out\, please contact the Harlingen Police Department Special Services at  (956) 202-5175 today!  Remember...this is YOUR community and your chance to give back!
X-ALT-DESC;FMTTYPE=text/html:The Harlingen Police Department Needs Your Support!  National Night Out...America's Night Out Against Crime is being held on Tuesday\, August 7th\, and they are looking for monetary donations and/or your donation of goods and services.  This is a community-wide event for family and friends to spend the evening outdoors having lots of fun!  If you would like to help out\, please contact the Harlingen Police Department Special Services at  (956) 202-5175 today!  Remember...this is YOUR community and your chance to give back! 
LOCATION:
UID:e.1828.3872
SEQUENCE:3
DTSTAMP:20260420T111513Z
URL:https://business.harlingen.com/events/details/national-night-out-america-s-night-out-against-crime-08-07-2012-3872
END:VEVENT

END:VCALENDAR
