BEGIN:VCALENDAR
VERSION:2.0
PRODID:-//ChamberMaster//Event Calendar 2.0//EN
METHOD:PUBLISH
X-PUBLISHED-TTL:P3D
REFRESH-INTERVAL:P3D
CALSCALE:GREGORIAN
BEGIN:VEVENT
DTSTART:20120717T223000Z
DTEND:20120717T223000Z
X-MICROSOFT-CDO-ALLDAYEVENT:FALSE
SUMMARY:National Nursing & Rehab Ribbon Cutting
DESCRIPTION:Please join us for a ribbon cutting celebration and refreshments at our new location!
X-ALT-DESC;FMTTYPE=text/html:Please join us for a ribbon cutting celebration and refreshments at our new location!\n
LOCATION:
UID:e.1828.3852
SEQUENCE:3
DTSTAMP:20260420T132217Z
URL:https://business.harlingen.com/events/details/national-nursing-rehab-ribbon-cutting-07-17-2012-3852
END:VEVENT

END:VCALENDAR
