BEGIN:VCALENDAR
VERSION:2.0
PRODID:-//ChamberMaster//Event Calendar 2.0//EN
METHOD:PUBLISH
X-PUBLISHED-TTL:P3D
REFRESH-INTERVAL:P3D
CALSCALE:GREGORIAN
BEGIN:VEVENT
DTSTART:20120207T140000Z
DTEND:20120207T230000Z
X-MICROSOFT-CDO-ALLDAYEVENT:FALSE
SUMMARY:National Organization Victim Assistance Crisis Response Training: Basic Course
DESCRIPTION:National Organization Victim Assistance\nCrisis Response Training: Basic Course\n \nThis is a 40-hour program preparing community leaders to help groups of affected people to cope with their immediate emotional reactions when a crisis strikes their community.\n \nTraining equips leaders to plan for longer-term emotional support and assists teams to begin the process of developing their own community- based crisis response programs. Training covers the techniques of providing crisis intervention. \n \nIt gives participants fundamentals on crisis and trauma\, and how these are filtered through the victims' age and culture to indicate how to adapt the basic techniques to different groups.\n \nWHEN IS NOVA (8:00a - 5:00p)\nJanuary 17\, 2012\nJanuary 24\, 2012\nJanuary 31\, 2012\nFebruary 7\, 2012\nFebruary 14\, 2012\n \nWHO SHOULD ATTEND\nMental Health Professionals\nLaw Enforcement Officers\nFirst Responders\nSchool Counselors\nSchool Principals\nSpecial Education Instructors\nSchool Nurses\n  \nWHERE:\nBoggus Education Pavilion Room 5\, Valley Baptist Medical Center Harlingen\n \nSponsored by:\nBaptist General Convention of Texas and Valley Baptist Health System\n \nRegistration and Cost infoatwww.texasbaptists.org/chaplaincy\nFor more information contact: Pastoral Services\, VBHS - (956) 389-1194 - pastoralservices@valleybaptist.net
X-ALT-DESC;FMTTYPE=text/html:National Organization Victim Assistance\nCrisis Response Training: Basic Course\n \nThis is a 40-hour program preparing community leaders to help groups of affected people to cope with their immediate emotional reactions when a crisis strikes their community.\n \nTraining equips leaders to plan for longer-term emotional support and assists teams to begin the process of developing their own community- based crisis response programs. Training covers the techniques of providing crisis intervention. \n \nIt gives participants fundamentals on crisis and trauma\, and how these are filtered through the victims' age and culture to indicate how to adapt the basic techniques to different groups.\n \nWHEN IS NOVA (8:00a - 5:00p)\nJanuary 17\, 2012\nJanuary 24\, 2012\nJanuary 31\, 2012\nFebruary 7\, 2012\nFebruary 14\, 2012\n \nWHO SHOULD ATTEND\nMental Health Professionals\nLaw Enforcement Officers\nFirst Responders\nSchool Counselors\nSchool Principals\nSpecial Education Instructors\nSchool Nurses\n  \nWHERE:\nBoggus Education Pavilion Room 5\, Valley Baptist Medical Center Harlingen\n \nSponsored by:\nBaptist General Convention of Texas and Valley Baptist Health System\n \nRegistration and Cost infoatwww.texasbaptists.org/chaplaincy\nFor more information contact: Pastoral Services\, VBHS - (956) 389-1194 - pastoralservices@valleybaptist.net\n\n
LOCATION:
UID:e.1828.3359
SEQUENCE:3
DTSTAMP:20260420T200116Z
URL:https://business.harlingen.com/events/details/national-organization-victim-assistance-crisis-response-training-basic-course-02-07-2012-3359
END:VEVENT

END:VCALENDAR
