BEGIN:VCALENDAR
VERSION:2.0
PRODID:-//ChamberMaster//Event Calendar 2.0//EN
METHOD:PUBLISH
X-PUBLISHED-TTL:P3D
REFRESH-INTERVAL:P3D
CALSCALE:GREGORIAN
BEGIN:VEVENT
DTSTART:20120515T140000Z
DTEND:20120515T153000Z
X-MICROSOFT-CDO-ALLDAYEVENT:FALSE
SUMMARY:National Peace Officer's Memorial Service
DESCRIPTION:National Peace Officer's Memorial Service \nThere will be a wreath laying and flag raising ceremony during the annual National Peace Officer's Memorial Service held by the local VA Health Care System's Police Service. The community is invited to attend.  For more information\, please contact Froy Garza\, VA Public Affairs Officer\, at (956) 430-9303 or (956) 454-3762.
X-ALT-DESC;FMTTYPE=text/html:National Peace Officer's Memorial Service \nThere will be a wreath laying and flag raising ceremony during the annual National Peace Officer's Memorial Service held by the local VA Health Care System's Police Service. The community is invited to attend.  For more information\, please contact Froy Garza\, VA Public Affairs Officer\, at (956) 430-9303 or (956) 454-3762. \n
LOCATION:
UID:e.1828.3657
SEQUENCE:3
DTSTAMP:20260420T150730Z
URL:https://business.harlingen.com/events/details/national-peace-officer-s-memorial-service-05-15-2012-3657
END:VEVENT

END:VCALENDAR
