BEGIN:VCALENDAR
VERSION:2.0
PRODID:-//ChamberMaster//Event Calendar 2.0//EN
METHOD:PUBLISH
X-PUBLISHED-TTL:P3D
REFRESH-INTERVAL:P3D
CALSCALE:GREGORIAN
BEGIN:VEVENT
DTSTART:20120215T150000Z
DTEND:20120215T150000Z
X-MICROSOFT-CDO-ALLDAYEVENT:FALSE
SUMMARY:''NATIONAL SALUTE TO VETERANS''
DESCRIPTION:Weeklong Activities at the VA Texas Valley Coastal Bend Health Care System\n\nWHAT: During the National Salute\, VA invites individuals\, Veterans groups\, military personnel\, civic organizations\, businesses\, schools\, local media\, celebrities and sports stars to participate in a variety of activities at the VA medical centers. The activities and events include special visits and valentine distributions\; photo opportunities\; school essay contests\; special recreation activities and Veteran recognition programs. The week also provides an opportunity for the community to become acquainted with the volunteer opportunities within the medical center.\n\nWHEN/WHERE:\n\nWednesday\, February 15\, 2012 VA Health Care Center at Harlingen \n                                                            2601 Veterans Drive\, Harlingen\, Texas\n9:00AM:  Refreshments\, valentines\, and hobby kits distributed by volunteers and service organization.  \n\nHobby kits delivered to home bound Veterans by staff from Home Based Primary Care Program.\n\n                                                            Valley Baptist Medical Center \n2101 Pease Street\, Harlingen\, Texas \n2:00PM: VA to visit Veteran patients at Valley Baptist Medical Center with Harlingen JROTC students.\n\n\nThursday\, February 16\, 2012     Harlingen VA Outpatient Clinic\,  \n                                                            2106 Treasure Hills Blvd\, Harlingen\, Texas\n9:00AM: Refreshments\, valentines\, and hobby kits distributed by volunteers and service organization.  \n\nGolden Palms \n2101 Treasure Hills Blvd\, Harlingen\, Texas\n2:00PM: Visit Veterans at Golden Palms Retirement Center across VA Clinic\n\nWHO:The Department of Veterans Affairs – VA Texas Valley Coastal Bend Health Care System (VATVCBHCS) leadership team including members\, clinic administration\, VA volunteers\, VA program managers and the local community.
X-ALT-DESC;FMTTYPE=text/html:Weeklong Activities at the VA Texas Valley Coastal Bend Health Care System\n\nWHAT: During the National Salute\, VA invites individuals\, Veterans groups\, military personnel\, civic organizations\, businesses\, schools\, local media\, celebrities and sports stars to participate in a variety of activities at the VA medical centers. The activities and events include special visits and valentine distributions\; photo opportunities\; school essay contests\; special recreation activities and Veteran recognition programs. The week also provides an opportunity for the community to become acquainted with the volunteer opportunities within the medical center.\n\nWHEN/WHERE:\n\nWednesday\, February 15\, 2012 VA Health Care Center at Harlingen \n                                                            2601 Veterans Drive\, Harlingen\, Texas\n9:00AM:  Refreshments\, valentines\, and hobby kits distributed by volunteers and service organization.  \n\nHobby kits delivered to home bound Veterans by staff from Home Based Primary Care Program.\n\n                                                            Valley Baptist Medical Center \n2101 Pease Street\, Harlingen\, Texas \n2:00PM: VA to visit Veteran patients at Valley Baptist Medical Center with Harlingen JROTC students.\n\n\nThursday\, February 16\, 2012     Harlingen VA Outpatient Clinic\,  \n                                                            2106 Treasure Hills Blvd\, Harlingen\, Texas\n9:00AM: Refreshments\, valentines\, and hobby kits distributed by volunteers and service organization.  \n\nGolden Palms \n2101 Treasure Hills Blvd\, Harlingen\, Texas\n2:00PM: Visit Veterans at Golden Palms Retirement Center across VA Clinic\n\nWHO:The Department of Veterans Affairs – VA Texas Valley Coastal Bend Health Care System (VATVCBHCS) leadership team including members\, clinic administration\, VA volunteers\, VA program managers and the local community.    \n\n\n\n
LOCATION:
UID:e.1828.3424
SEQUENCE:3
DTSTAMP:20260420T211812Z
URL:https://business.harlingen.com/events/details/national-salute-to-veterans-02-15-2012-3424
END:VEVENT

END:VCALENDAR
