BEGIN:VCALENDAR
VERSION:2.0
PRODID:-//ChamberMaster//Event Calendar 2.0//EN
METHOD:PUBLISH
X-PUBLISHED-TTL:P3D
REFRESH-INTERVAL:P3D
CALSCALE:GREGORIAN
BEGIN:VEVENT
DTSTART;VALUE=DATE:20120523
DTEND;VALUE=DATE:20120524
TRANSP:TRANSPARENT
X-MICROSOFT-CDO-ALLDAYEVENT:TRUE
SUMMARY:National Small Business Week video contest
DESCRIPTION:Video Contest Winners to be Announced in White House Hangout During National Small Business Week. The U.S. Small Business Administration will announce the winners of the National Small Business Week video contest on Wednesday\, May 23\, 2012\, at 3:00 p.m. EDT\, during a Google+ Hangout hosted by the SBA and the White House. SBA Administrator Karen Mills will join video contact winners for a discussion about how SBA assistance helped their small businesses\, moderated by contributing editor of Entrepreneur.com Diana Ransom. To participate in the discussion and submit questions live via Twitter\,use #WHHangout or the following: White House Live: http://www.whitehouse.gov/live\nWhite House Google+ page: http://plus.google.com/105479712798762608629/\nEntrepreneur.com:  http://www.entrepreneur.com
X-ALT-DESC;FMTTYPE=text/html:Video Contest Winners to be Announced in White House Hangout During National Small Business Week. The U.S. Small Business Administration will announce the winners of the National Small Business Week video contest on Wednesday\, May 23\, 2012\, at 3:00 p.m. EDT\, during a Google+ Hangout hosted by the SBA and the White House. SBA Administrator Karen Mills will join video contact winners for a discussion about how SBA assistance helped their small businesses\, moderated by contributing editor of Entrepreneur.com Diana Ransom. To participate in the discussion and submit questions live via Twitter\,use #WHHangout or the following: White House Live: http://www.whitehouse.gov/live\nWhite House Google+ page: http://plus.google.com/105479712798762608629/\nEntrepreneur.com:  http://www.entrepreneur.com\n
LOCATION:
UID:e.1828.3706
SEQUENCE:3
DTSTAMP:20260420T150806Z
URL:https://business.harlingen.com/events/details/national-small-business-week-video-contest-05-23-2012-3706
END:VEVENT

END:VCALENDAR
