BEGIN:VCALENDAR
VERSION:2.0
PRODID:-//ChamberMaster//Event Calendar 2.0//EN
METHOD:PUBLISH
X-PUBLISHED-TTL:P3D
REFRESH-INTERVAL:P3D
CALSCALE:GREGORIAN
BEGIN:VEVENT
DTSTART;VALUE=DATE:20100205
DTEND;VALUE=DATE:20100206
TRANSP:TRANSPARENT
X-MICROSOFT-CDO-ALLDAYEVENT:TRUE
SUMMARY:National Wear Red Day
DESCRIPTION:Wear RED on Friday\, February 5\, 2010 for National Wear Red Day (or any other day you choose) to SPEAK UP about this disease.  Tell everyone you know that the No 1. killer of women is heart disease. Together\, we can bring a voice to this silent killer and help save lives.\nToo many women die each year because they don't know that heart disease is their No. 1 killer. We can teach women to make small\, simple choices that will help them live longer\, healthier lives. Host Wear Red Day activities at your company\, organization\, school or association to speak out against heart disease and help reduce the number of women who die from heart disease each year. Your efforts will make a difference for women and their families in your organization and community.\nIn the workplace: Wear Red Day benefits your company and employees. Wearing red is a simple\, powerful way to raise awareness that heart disease is the No. 1 killer of women. Wear Red Day gives participants a way to show concern for co-workers\, family members and friends\, and to empower them to take action against heart disease. Surveys show that over 90 percent of employees feel proud of companies that support an important cause. Hosting heart disease awareness activities will send a clear message to employees and the community that you care about your employees' health and safety. But most of all\, Wear Red Day is fun!\nIt's easy to get started\, visit www.GoRedForWomen.org  or www.shopgored.com for more information about the movement. \nThank you for helping us make a difference\,
X-ALT-DESC;FMTTYPE=text/html:Wear RED on Friday\, February 5\, 2010 for National Wear Red Day (or any other day you choose) to SPEAK UP about this disease.  Tell everyone you know that the No 1. killer of women is heart disease. Together\, we can bring a voice to this silent killer and help save lives.\nToo many women die each year because they don't know that heart disease is their No. 1 killer. We can teach women to make small\, simple choices that will help them live longer\, healthier lives. Host Wear Red Day activities at your company\, organization\, school or association to speak out against heart disease and help reduce the number of women who die from heart disease each year. Your efforts will make a difference for women and their families in your organization and community.\nIn the workplace: Wear Red Day benefits your company and employees. Wearing red is a simple\, powerful way to raise awareness that heart disease is the No. 1 killer of women. Wear Red Day gives participants a way to show concern for co-workers\, family members and friends\, and to empower them to take action against heart disease. Surveys show that over 90 percent of employees feel proud of companies that support an important cause. Hosting heart disease awareness activities will send a clear message to employees and the community that you care about your employees' health and safety. But most of all\, Wear Red Day is fun!\nIt's easy to get started\, visit www.GoRedForWomen.org  or www.shopgored.com for more information about the movement. \nThank you for helping us make a difference\, \n
LOCATION:
UID:e.1828.2342
SEQUENCE:3
DTSTAMP:20260422T094642Z
URL:https://business.harlingen.com/events/details/national-wear-red-day-02-05-2010-2342
END:VEVENT

END:VCALENDAR
