BEGIN:VCALENDAR
VERSION:2.0
PRODID:-//ChamberMaster//Event Calendar 2.0//EN
METHOD:PUBLISH
X-PUBLISHED-TTL:P3D
REFRESH-INTERVAL:P3D
CALSCALE:GREGORIAN
BEGIN:VEVENT
DTSTART:20100911T130000Z
DTEND:20100911T170000Z
X-MICROSOFT-CDO-ALLDAYEVENT:FALSE
SUMMARY:Need Volunteers for Neighborhood Clean Up
DESCRIPTION:Mandy Key with Harlingen Proud is asking for volunteers to help with the Neighborhood Clean Up scheduled for this Saturday\, September 11th in the Wheeler Park Area from 8 am to Noon.  We will be removing debris and graffiti.  Be sure to bring your work gloves & a hat is recommended.  Wear old clothes such as jeans & closed toe shoes.  Animal Control and Code Enforcement will be partnering with us – however\, please be mindful of loose dogs – do not pet or engage with these animals – report them to Mandy or animal control.  For more information\, please call Mandy at 956-216-5302.
X-ALT-DESC;FMTTYPE=text/html:Mandy Key with Harlingen Proud is asking for volunteers to help with the Neighborhood Clean Up scheduled for this Saturday\, September 11th in the Wheeler Park Area from 8 am to Noon.  We will be removing debris and graffiti.  Be sure to bring your work gloves & a hat is recommended.  Wear old clothes such as jeans & closed toe shoes.  Animal Control and Code Enforcement will be partnering with us – however\, please be mindful of loose dogs – do not pet or engage with these animals – report them to Mandy or animal control.  For more information\, please call Mandy at 956-216-5302.\n\n
LOCATION:26th and East Jackson Street
UID:e.1828.2746
SEQUENCE:3
DTSTAMP:20260421T223505Z
URL:https://business.harlingen.com/events/details/need-volunteers-for-neighborhood-clean-up-09-11-2010-2746
END:VEVENT

END:VCALENDAR
