BEGIN:VCALENDAR
VERSION:2.0
PRODID:-//ChamberMaster//Event Calendar 2.0//EN
METHOD:PUBLISH
X-PUBLISHED-TTL:P3D
REFRESH-INTERVAL:P3D
CALSCALE:GREGORIAN
BEGIN:VEVENT
DTSTART:20120118T170000Z
DTEND:20120118T190000Z
X-MICROSOFT-CDO-ALLDAYEVENT:FALSE
SUMMARY:Network Express
DESCRIPTION:This is a fantastic networking opportunity!\nIt's your chance to exchange leads\, ideas and business cards \nwith other business professionals.\n\nWednesday\, January 18\, 2012\nDoors open at 11:00 am\nNetwork Express begins at 11:30 am Sharp!\n\nBest Western Casa Villa Suites\nWhite Wing Room (1st Floor)\n4217 S. Expressway 77 – Harlingen\n\nA fun\, new twist on traditional networking that delivers results!\n\nAt Network Express\, you will interact with 49 other new business contacts representing many different types of businesses\, all with the same goal of growing and expanding their business in the Harlingen area.\n\nNetwork Express participants are seated at tables and each are given 60 seconds to introduce themselves\, their  company\, products\, services and client base to the others at the table.  When the whistle blows\, everyone moves to the next table and the process begins all over again.  At the end of the hour\, each person has met and exchanged business cards with up to 49 potential clients or customers!\n\nNETWORK EXPRESS IS FUN\, FAST AND FANTASTIC!
X-ALT-DESC;FMTTYPE=text/html:This is a fantastic networking opportunity!\nIt's your chance to exchange leads\, ideas and business cards \nwith other business professionals.\n\nWednesday\, January 18\, 2012\nDoors open at 11:00 am\nNetwork Express begins at 11:30 am Sharp!\n\nBest Western Casa Villa Suites\nWhite Wing Room (1st Floor)\n4217 S. Expressway 77 – Harlingen\n\nA fun\, new twist on traditional networking that delivers results!\n\nAt Network Express\, you will interact with 49 other new business contacts representing many different types of businesses\, all with the same goal of growing and expanding their business in the Harlingen area.\n\nNetwork Express participants are seated at tables and each are given 60 seconds to introduce themselves\, their  company\, products\, services and client base to the others at the table.  When the whistle blows\, everyone moves to the next table and the process begins all over again.  At the end of the hour\, each person has met and exchanged business cards with up to 49 potential clients or customers!\n\nNETWORK EXPRESS IS FUN\, FAST AND FANTASTIC!\n
LOCATION:
UID:e.1828.3349
SEQUENCE:3
DTSTAMP:20260420T211211Z
URL:https://business.harlingen.com/events/details/network-express-01-18-2012-3349
END:VEVENT

END:VCALENDAR
