BEGIN:VCALENDAR
VERSION:2.0
PRODID:-//ChamberMaster//Event Calendar 2.0//EN
METHOD:PUBLISH
X-PUBLISHED-TTL:P3D
REFRESH-INTERVAL:P3D
CALSCALE:GREGORIAN
BEGIN:VEVENT
DTSTART:20100731T200000Z
DTEND:20100731T050000Z
X-MICROSOFT-CDO-ALLDAYEVENT:FALSE
SUMMARY:NEW DATE - Tejano Thunder Concert
DESCRIPTION:Smokey Joe Productions & Ivan Entertainment present Tejano Thunder\, a battle of the voices to stop diabetes.  Leading the charge will be Little Joe Y La Familia\, plus Jay Perez\, Javier Galvan\, Raulito Navaira\, Jimmy Edward\, Gabriel\, Roger Velesquez\, David Marez\, Bob Gallarza\, Grupo Vida\, Dehebegebees and Gloria Jean Cantu.  Gates open at 3 pm.  Music from 5 pm to midnight.   Fireworks at 10 pm.  Admission is $15 in advance\, $20 at the gate\, kids 10 and under are free.  Tickets can be purchased at Johnny's True Value in Harlingen and The Boot Jack in Brownsville and McAllen.  Concession service available.  No outside food or drinks!  Partial proceeds to benefit the Rio Grande Valley Diabetes Association.  For more information\, please call 956-428-2836 or 956-536-0423.
X-ALT-DESC;FMTTYPE=text/html:Smokey Joe Productions & Ivan Entertainment present Tejano Thunder\, a battle of the voices to stop diabetes.  Leading the charge will be Little Joe Y La Familia\, plus Jay Perez\, Javier Galvan\, Raulito Navaira\, Jimmy Edward\, Gabriel\, Roger Velesquez\, David Marez\, Bob Gallarza\, Grupo Vida\, Dehebegebees and Gloria Jean Cantu.  Gates open at 3 pm.  Music from 5 pm to midnight.   Fireworks at 10 pm.  Admission is $15 in advance\, $20 at the gate\, kids 10 and under are free.  Tickets can be purchased at Johnny's True Value in Harlingen and The Boot Jack in Brownsville and McAllen.  Concession service available.  No outside food or drinks!  Partial proceeds to benefit the Rio Grande Valley Diabetes Association.  For more information\, please call 956-428-2836 or 956-536-0423.
LOCATION:
UID:e.1828.2567
SEQUENCE:3
DTSTAMP:20260422T015327Z
URL:https://business.harlingen.com/events/details/new-date-tejano-thunder-concert-07-31-2010-2567
END:VEVENT

END:VCALENDAR
