BEGIN:VCALENDAR
VERSION:2.0
PRODID:-//ChamberMaster//Event Calendar 2.0//EN
METHOD:PUBLISH
X-PUBLISHED-TTL:P3D
REFRESH-INTERVAL:P3D
CALSCALE:GREGORIAN
BEGIN:VEVENT
DTSTART:20100101T000000Z
DTEND:20100101T000000Z
X-MICROSOFT-CDO-ALLDAYEVENT:FALSE
SUMMARY:New Year's Eve ball and dinner
DESCRIPTION:Dinner and Dance to the Music of the Agency Band $18\nCall 956 399-5800 for tickets and info.
X-ALT-DESC;FMTTYPE=text/html:Dinner and Dance to the Music of the Agency Band $18\nCall 956 399-5800 for tickets and info.\n
LOCATION:Fun N Sun RV Resort off 509/ Paso Real South
UID:e.1828.2214
SEQUENCE:3
DTSTAMP:20260422T143813Z
URL:https://business.harlingen.com/events/details/new-year-s-eve-ball-and-dinner-12-31-2009-2214
END:VEVENT

END:VCALENDAR
