BEGIN:VCALENDAR
VERSION:2.0
PRODID:-//ChamberMaster//Event Calendar 2.0//EN
METHOD:PUBLISH
X-PUBLISHED-TTL:P3D
REFRESH-INTERVAL:P3D
CALSCALE:GREGORIAN
BEGIN:VEVENT
DTSTART:20110901T224500Z
DTEND:20110901T224500Z
X-MICROSOFT-CDO-ALLDAYEVENT:FALSE
SUMMARY:New York Life Grand Opening
DESCRIPTION:Cabot Goslin an agent with New York Life Insurance Company will be opening an office at the historic Reese Building. Please join us in celebrating the Grand Opening with a Ribbon Cutting Ceremony. Hors D'oeuvres and cocktails will be available for purchase.
X-ALT-DESC;FMTTYPE=text/html:Cabot Goslin an agent with New York Life Insurance Company will be opening an office at the historic Reese Building. Please join us in celebrating the Grand Opening with a Ribbon Cutting Ceremony. Hors D'oeuvres and cocktails will be available for purchase. \n \n
LOCATION:
UID:e.1828.3146
SEQUENCE:3
DTSTAMP:20260421T051254Z
URL:https://business.harlingen.com/events/details/new-york-life-grand-opening-09-01-2011-3146
END:VEVENT

END:VCALENDAR
