BEGIN:VCALENDAR
VERSION:2.0
PRODID:-//ChamberMaster//Event Calendar 2.0//EN
METHOD:PUBLISH
X-PUBLISHED-TTL:P3D
REFRESH-INTERVAL:P3D
CALSCALE:GREGORIAN
BEGIN:VEVENT
DTSTART:20120517T223000Z
DTEND:20120517T223000Z
X-MICROSOFT-CDO-ALLDAYEVENT:FALSE
SUMMARY:New York Life Insurance Company Ribbon Cutting
DESCRIPTION:Come join us and celebrate!  Refreshments will be served.
X-ALT-DESC;FMTTYPE=text/html:Come join us and celebrate!  Refreshments will be served. 
LOCATION:Bank of America Tower
UID:e.1828.3637
SEQUENCE:3
DTSTAMP:20260420T164014Z
URL:https://business.harlingen.com/events/details/new-york-life-insurance-company-ribbon-cutting-05-17-2012-3637
END:VEVENT

END:VCALENDAR
