BEGIN:VCALENDAR
VERSION:2.0
PRODID:-//ChamberMaster//Event Calendar 2.0//EN
METHOD:PUBLISH
X-PUBLISHED-TTL:P3D
REFRESH-INTERVAL:P3D
CALSCALE:GREGORIAN
BEGIN:VEVENT
DTSTART;VALUE=DATE:20120310
DTEND;VALUE=DATE:20120311
TRANSP:TRANSPARENT
X-MICROSOFT-CDO-ALLDAYEVENT:TRUE
SUMMARY:Next Generation Weekend Bass Pro Shops 2012 Spring Fishing Classics
DESCRIPTION:Next Generation Weekend\nMarch 9- 11\, 2012\nNoon- 5 pm\nCatch and Release Pond\nA 750 gallon Catch and Release Pond stocked with live fish will be set up in the Tracker Boat Showroom which will give kids the opportunity to enjoy fishing\, learn to cast and other fishing skills.\n\nFree Photo Download\nKids will be taken a picture of their catch.\nThey will NOT receive an actual picture on the spot\, it is a high definition quality image that could be downloaded by the customer and be printed by them at their convenience from home.\n\nCrafts\nNoon- 2 pm\nAlligator Clip\, Wooden Wiggle Snake\, Coloring Sheets\n(While Supplies Last)\n\nKid Seminars:\n2 pm- Using a Spinning Reel\n3 pm- Bobbers\, Sinkers\, Live and Artificial Bait\n4 pm- Fishing Baskets and Stringers\n\nGiveaways\nThe first 50 kids to participate in the Catch and Release Pond each day will receive a FREE Drawstring Backpack\n\n\n\n\n\nContact information Elizabeth Ulloa Promotions Coordinator mail to:eulloa@basspro.com
X-ALT-DESC;FMTTYPE=text/html:Next Generation Weekend\nMarch 9- 11\, 2012\nNoon- 5 pm\nCatch and Release Pond\nA 750 gallon Catch and Release Pond stocked with live fish will be set up in the Tracker Boat Showroom which will give kids the opportunity to enjoy fishing\, learn to cast and other fishing skills.\n\nFree Photo Download\nKids will be taken a picture of their catch.\nThey will NOT receive an actual picture on the spot\, it is a high definition quality image that could be downloaded by the customer and be printed by them at their convenience from home.\n\nCrafts\nNoon- 2 pm\nAlligator Clip\, Wooden Wiggle Snake\, Coloring Sheets\n(While Supplies Last)\n\nKid Seminars:\n2 pm- Using a Spinning Reel\n3 pm- Bobbers\, Sinkers\, Live and Artificial Bait\n4 pm- Fishing Baskets and Stringers\n\nGiveaways\nThe first 50 kids to participate in the Catch and Release Pond each day will receive a FREE Drawstring Backpack\n\n\n\n\n\nContact information Elizabeth Ulloa Promotions Coordinator mail to:eulloa@basspro.com
LOCATION:
UID:e.1828.3543
SEQUENCE:3
DTSTAMP:20260420T181937Z
URL:https://business.harlingen.com/events/details/next-generation-weekend-bass-pro-shops-2012-spring-fishing-classics-03-10-2012-3543
END:VEVENT

END:VCALENDAR
