BEGIN:VCALENDAR
VERSION:2.0
PRODID:-//ChamberMaster//Event Calendar 2.0//EN
METHOD:PUBLISH
X-PUBLISHED-TTL:P3D
REFRESH-INTERVAL:P3D
CALSCALE:GREGORIAN
BEGIN:VEVENT
DTSTART:20101007T230000Z
DTEND:20101007T130000Z
X-MICROSOFT-CDO-ALLDAYEVENT:FALSE
SUMMARY:"Ni Una Mas/Not One More Candlelight Vigil
DESCRIPTION:On October 7\, 2010 from 6-8 pm.\, the Family Crisis Center\, in collaboration with Texas State Technical College in Harlingen will be holding it's Annual Candleight Vigil to held at the TSTC Irma Rangel Science Technology Building/Auditorium.  This event is being held to honor those who have lost their lives as a result of domestic violence.\n\nThe event is free to the public.
X-ALT-DESC;FMTTYPE=text/html:On October 7\, 2010 from 6-8 pm.\, the Family Crisis Center\, in collaboration with Texas State Technical College in Harlingen will be holding it's Annual Candleight Vigil to held at the TSTC Irma Rangel Science Technology Building/Auditorium.  This event is being held to honor those who have lost their lives as a result of domestic violence.\n\nThe event is free to the public.
LOCATION:TSTC Irma Rangel Science Technology Building/Auditorium-1902 N. Loop 499\, Harlingen\, Texas
UID:e.1828.2770
SEQUENCE:3
DTSTAMP:20260421T203738Z
URL:https://business.harlingen.com/events/details/ni-una-mas-not-one-more-candlelight-vigil-10-07-2010-2770
END:VEVENT

END:VCALENDAR
