BEGIN:VCALENDAR
VERSION:2.0
PRODID:-//ChamberMaster//Event Calendar 2.0//EN
METHOD:PUBLISH
X-PUBLISHED-TTL:P3D
REFRESH-INTERVAL:P3D
CALSCALE:GREGORIAN
BEGIN:VEVENT
DTSTART:20091001T230000Z
DTEND:20091001T230000Z
X-MICROSOFT-CDO-ALLDAYEVENT:FALSE
SUMMARY:''Ni Una Más – Not One More'' Candlelight Vigil
DESCRIPTION:The Harlingen Family Crisis Center and the TSTC Student Development Division are co-sponsoring the ''Ni Una Más – Not One More'' Annual Candlelight Vigil at the Cultural Arts Center (across from TSTC on Loop 499) in Harlingen on October 1\, 2009 at 6:00 p.m.  Victims who have lost their lives as a result of domestic violence will be remembered\, as well law enforcement officers who have lost their lives responding to a domestic violence call.  For more information\, please call the Family Crisis Center at 956-423-9304.
X-ALT-DESC;FMTTYPE=text/html:The Harlingen Family Crisis Center and the TSTC Student Development Division are co-sponsoring the ''Ni Una Más – Not One More'' Annual Candlelight Vigil at the Cultural Arts Center (across from TSTC on Loop 499) in Harlingen on October 1\, 2009 at 6:00 p.m.  Victims who have lost their lives as a result of domestic violence will be remembered\, as well law enforcement officers who have lost their lives responding to a domestic violence call.  For more information\, please call the Family Crisis Center at 956-423-9304.\n
LOCATION:
UID:e.1828.2085
SEQUENCE:3
DTSTAMP:20260422T111924Z
URL:https://business.harlingen.com/events/details/ni-una-m&#225;s-not-one-more-candlelight-vigil-10-01-2009-2085
END:VEVENT

END:VCALENDAR
