BEGIN:VCALENDAR
VERSION:2.0
PRODID:-//ChamberMaster//Event Calendar 2.0//EN
METHOD:PUBLISH
X-PUBLISHED-TTL:P3D
REFRESH-INTERVAL:P3D
CALSCALE:GREGORIAN
BEGIN:VEVENT
DTSTART:20130210T020000Z
DTEND:20130209T060000Z
X-MICROSOFT-CDO-ALLDAYEVENT:FALSE
SUMMARY:"Noche de Ronda" 7th Annual Valentine's Dance
DESCRIPTION:7th Annual Texas Conjunto - Music Hall of Fame\nValentines's Dance with Music by Noe Pro & The Band\n\nPre-sale tickets $20 per person or $25 per person at the door.\nTickets available at San Benito KC Hall\, San Benito Chamber of Commerce and Harlingen Area Chamber of Commerce.
X-ALT-DESC;FMTTYPE=text/html:7th Annual Texas Conjunto - Music Hall of Fame\nValentines's Dance with Music by Noe Pro & The Band\n\nPre-sale tickets $20 per person or $25 per person at the door.\nTickets available at San Benito KC Hall\, San Benito Chamber of Commerce and Harlingen Area Chamber of Commerce.
LOCATION:
UID:e.1828.4211
SEQUENCE:3
DTSTAMP:20260420T090013Z
URL:https://business.harlingen.com/events/details/noche-de-ronda-7th-annual-valentine-s-dance-02-09-2013-4211
END:VEVENT

END:VCALENDAR
