BEGIN:VCALENDAR
VERSION:2.0
PRODID:-//ChamberMaster//Event Calendar 2.0//EN
METHOD:PUBLISH
X-PUBLISHED-TTL:P3D
REFRESH-INTERVAL:P3D
CALSCALE:GREGORIAN
BEGIN:VEVENT
DTSTART;VALUE=DATE:20090920
DTEND;VALUE=DATE:20091030
TRANSP:TRANSPARENT
X-MICROSOFT-CDO-ALLDAYEVENT:TRUE
SUMMARY:NOTICE: Road Work on Tyler & Harrison Avenues
DESCRIPTION:TxDOT and its contractor will begin an asphalt overlay operation on Tyler/Harrison Avenues from US 77 to Loop 499 (Ed Carey Drive) in Harlingen on Sunday\, September 20th and continue through October 29th. The work will be done Sunday through Thursday nights from 8 pm to 6 am. Motorists should expect one lane traffic in both directions during working hours.
X-ALT-DESC;FMTTYPE=text/html:TxDOT and its contractor will begin an asphalt overlay operation on Tyler/Harrison Avenues from US 77 to Loop 499 (Ed Carey Drive) in Harlingen on Sunday\, September 20th and continue through October 29th. The work will be done Sunday through Thursday nights from 8 pm to 6 am. Motorists should expect one lane traffic in both directions during working hours. \n
LOCATION:
UID:e.1828.2099
SEQUENCE:3
DTSTAMP:20260422T112003Z
URL:https://business.harlingen.com/events/details/notice-road-work-on-tyler-harrison-avenues-09-20-2009-2099
END:VEVENT

END:VCALENDAR
