BEGIN:VCALENDAR
VERSION:2.0
PRODID:-//ChamberMaster//Event Calendar 2.0//EN
METHOD:PUBLISH
X-PUBLISHED-TTL:P3D
REFRESH-INTERVAL:P3D
CALSCALE:GREGORIAN
BEGIN:VEVENT
DTSTART;VALUE=DATE:20100215
DTEND;VALUE=DATE:20100320
TRANSP:TRANSPARENT
X-MICROSOFT-CDO-ALLDAYEVENT:TRUE
SUMMARY:Now Accepting Donations for Pretty at Prom
DESCRIPTION:Pretty at Prom benefits all surrounding school districts.  Donations are being accepted for new or gently used formal gowns\, tuxedos\, shoes\, accessories\, restaurant gift certificates\, beauty professionals for hair   2910 E. Grimes\, Harlingen\; 4321 W. Expressway 83\, Harlingen\, the Valley Morning Star – 1310 S. Commerce\, Harlingen and Valle Vista Mall - 2020 S. Expressway. *Donation Deadline – March 19\, 2010.  For more information please call 956-423-5792.
X-ALT-DESC;FMTTYPE=text/html:Pretty at Prom benefits all surrounding school districts.  Donations are being accepted for new or gently used formal gowns\, tuxedos\, shoes\, accessories\, restaurant gift certificates\, beauty professionals for hair & makeup\,  limo services\, corsages & boutonnieres.  Through your generosity there will be a lot of happy young women and men that might not have been able to attend their prom.  If you would like to make a donation\, the drop off points are:  Harlingen Area Teachers' Credit Union – 345 N. Williams\, San Benito\; 2910 E. Grimes\, Harlingen\; 4321 W. Expressway 83\, Harlingen\, the Valley Morning Star – 1310 S. Commerce\, Harlingen and Valle Vista Mall - 2020 S. Expressway. *Donation Deadline – March 19\, 2010.  For more information please call 956-423-5792.\n\n\n\n
LOCATION:
UID:e.1828.2383
SEQUENCE:3
DTSTAMP:20260422T080812Z
URL:https://business.harlingen.com/events/details/now-accepting-donations-for-pretty-at-prom-02-15-2010-2383
END:VEVENT

END:VCALENDAR
