BEGIN:VCALENDAR
VERSION:2.0
PRODID:-//ChamberMaster//Event Calendar 2.0//EN
METHOD:PUBLISH
X-PUBLISHED-TTL:P3D
REFRESH-INTERVAL:P3D
CALSCALE:GREGORIAN
BEGIN:VEVENT
DTSTART:20090818T130000Z
DTEND:20090818T143000Z
X-MICROSOFT-CDO-ALLDAYEVENT:FALSE
SUMMARY:Nurses & Professionals Appreciation Breakfast
DESCRIPTION:Nurses & Professionals Appreciation Breakfast at Canterbury Gardens located at 900 Camelot Drive in Harlingen.  Great food and Door Prizes!  Please R.S.V.P. by Fri. August 14 at (956) 428-4118.
X-ALT-DESC;FMTTYPE=text/html:Nurses & Professionals Appreciation Breakfast at Canterbury Gardens located at 900 Camelot Drive in Harlingen.  Great food and Door Prizes!  Please R.S.V.P. by Fri. August 14 at (956) 428-4118.\n
LOCATION:
UID:e.1828.2021
SEQUENCE:3
DTSTAMP:20260422T080629Z
URL:https://business.harlingen.com/events/details/nurses-professionals-appreciation-breakfast-08-18-2009-2021
END:VEVENT

END:VCALENDAR
