BEGIN:VCALENDAR
VERSION:2.0
PRODID:-//ChamberMaster//Event Calendar 2.0//EN
METHOD:PUBLISH
X-PUBLISHED-TTL:P3D
REFRESH-INTERVAL:P3D
CALSCALE:GREGORIAN
BEGIN:VEVENT
DTSTART:20110301T160000Z
DTEND:20110301T160000Z
X-MICROSOFT-CDO-ALLDAYEVENT:FALSE
SUMMARY:Nurses That Care Grand Opening & Ribbon Cutting
DESCRIPTION:Nurses That Care has proudly been serving the Rio Grande Valley for the past nineteen years providing high-quality skilled nursing and personal care to the people they serve. Show your community spirit and join in celebrating the Grand Opening and Ribbon Cutting Ceremony of their new location! Breakfast snacks will be served.
X-ALT-DESC;FMTTYPE=text/html:Nurses That Care has proudly been serving the Rio Grande Valley for the past nineteen years providing high-quality skilled nursing and personal care to the people they serve. Show your community spirit and join in celebrating the Grand Opening and Ribbon Cutting Ceremony of their new location! Breakfast snacks will be served. 
LOCATION:
UID:e.1828.2978
SEQUENCE:3
DTSTAMP:20260421T140016Z
URL:https://business.harlingen.com/events/details/nurses-that-care-grand-opening-ribbon-cutting-03-01-2011-2978
END:VEVENT

END:VCALENDAR
