BEGIN:VCALENDAR
VERSION:2.0
PRODID:-//ChamberMaster//Event Calendar 2.0//EN
METHOD:PUBLISH
X-PUBLISHED-TTL:P3D
REFRESH-INTERVAL:P3D
CALSCALE:GREGORIAN
BEGIN:VEVENT
DTSTART:20091031T160000Z
DTEND:20091031T200000Z
X-MICROSOFT-CDO-ALLDAYEVENT:FALSE
SUMMARY:OctoberFest
DESCRIPTION:The Children's Museum of Brownsville is excited because the Fall Season has arrived!  Come to the Museum and decorate your own mini pumpkin!  You can also participate in games such as Frankenstein Bean Bag Toss\, Ghosty Scavenger Hunt\, and Batty Bowling.  Prizes and lots of fun are included!
X-ALT-DESC;FMTTYPE=text/html:The Children's Museum of Brownsville is excited because the Fall Season has arrived!  Come to the Museum and decorate your own mini pumpkin!  You can also participate in games such as Frankenstein Bean Bag Toss\, Ghosty Scavenger Hunt\, and Batty Bowling.  Prizes and lots of fun are included!\n\n
LOCATION:Children's Museum of Brownsville
UID:e.1828.2160
SEQUENCE:3
DTSTAMP:20260422T111548Z
URL:https://business.harlingen.com/events/details/octoberfest-10-31-2009-2160
END:VEVENT

END:VCALENDAR
