BEGIN:VCALENDAR
VERSION:2.0
PRODID:-//ChamberMaster//Event Calendar 2.0//EN
METHOD:PUBLISH
X-PUBLISHED-TTL:P3D
REFRESH-INTERVAL:P3D
CALSCALE:GREGORIAN
BEGIN:VEVENT
DTSTART;VALUE=DATE:20120527
DTEND;VALUE=DATE:20120528
TRANSP:TRANSPARENT
X-MICROSOFT-CDO-ALLDAYEVENT:TRUE
SUMMARY:Official Opening Day for the WhiteWings
DESCRIPTION:Official Opening Day for the WhiteWings. Gates Open at 6:05 p.m.\, Game Time is 7:05 p.m. For more information\, please call (956) 423-9464 or visit the WhiteWings website at guestinfo@whitewingsbaseball.net.
X-ALT-DESC;FMTTYPE=text/html:Official Opening Day for the WhiteWings. Gates Open at 6:05 p.m.\, Game Time is 7:05 p.m. For more information\, please call (956) 423-9464 or visit the WhiteWings website at guestinfo@whitewingsbaseball.net. \n
LOCATION:
UID:e.1828.3702
SEQUENCE:3
DTSTAMP:20260420T150708Z
URL:https://business.harlingen.com/events/details/official-opening-day-for-the-whitewings-05-27-2012-3702
END:VEVENT

END:VCALENDAR
