BEGIN:VCALENDAR
VERSION:2.0
PRODID:-//ChamberMaster//Event Calendar 2.0//EN
METHOD:PUBLISH
X-PUBLISHED-TTL:P3D
REFRESH-INTERVAL:P3D
CALSCALE:GREGORIAN
BEGIN:VEVENT
DTSTART:20120815T150000Z
DTEND:20120815T153000Z
X-MICROSOFT-CDO-ALLDAYEVENT:FALSE
SUMMARY:Official Unveiling of U.S. Senator Kay Bailey Hutchison Portrait
DESCRIPTION:Texas State Senator Eddie Lucio\, Jr. cordially invites you to the official unveiling of U.S. Senator Kay Bailey Hutchison portrait. Senator Hutchison will be retiring from the United States Senate in December 2012 this will be her "farewell" visit to the Rio Grande Valley.
X-ALT-DESC;FMTTYPE=text/html:Texas State Senator Eddie Lucio\, Jr. cordially invites you to the official unveiling of U.S. Senator Kay Bailey Hutchison portrait. Senator Hutchison will be retiring from the United States Senate in December 2012 this will be her "farewell" visit to the Rio Grande Valley. 
LOCATION:
UID:e.1828.3928
SEQUENCE:3
DTSTAMP:20260420T102741Z
URL:https://business.harlingen.com/events/details/official-unveiling-of-u-s-senator-kay-bailey-hutchison-portrait-08-15-2012-3928
END:VEVENT

END:VCALENDAR
