BEGIN:VCALENDAR
VERSION:2.0
PRODID:-//ChamberMaster//Event Calendar 2.0//EN
METHOD:PUBLISH
X-PUBLISHED-TTL:P3D
REFRESH-INTERVAL:P3D
CALSCALE:GREGORIAN
BEGIN:VEVENT
DTSTART:20101028T230000Z
DTEND:20101029T020000Z
X-MICROSOFT-CDO-ALLDAYEVENT:FALSE
SUMMARY:OKTOBERFEST AT TSTC Harlingen
DESCRIPTION:Oktoberfest\, the fun fall festival for families\, will celebrate autumn traditions and include a Haunted House at the TSTC Wellness   student organizations will sell food and beverages to raise funds for projects. Call 956.364.4370\, 364.4342 or 364.4304 for more information
X-ALT-DESC;FMTTYPE=text/html:Oktoberfest\, the fun fall festival for families\, will celebrate autumn traditions and include a Haunted House at the TSTC Wellness & Sports Center. The TSTC Athletic Field is at the corner of Rio Hondo Road and 29th Street. The TSTC Wellness & Sports Center is along Loop 499 near United Launch Alliance and Valley International Airport. There will be a costume contest\, photos with Scooby-Doo\, rides\, games and prizes. There is no admission fee\; student organizations will sell food and beverages to raise funds for projects. Call 956.364.4370\, 364.4342 or 364.4304 for more information\n
LOCATION:TSTC Athletic Field (Harlingen)
UID:e.1828.2823
SEQUENCE:3
DTSTAMP:20260421T223159Z
URL:https://business.harlingen.com/events/details/oktoberfest-at-tstc-harlingen-10-28-2010-2823
END:VEVENT

END:VCALENDAR
