BEGIN:VCALENDAR
VERSION:2.0
PRODID:-//ChamberMaster//Event Calendar 2.0//EN
METHOD:PUBLISH
X-PUBLISHED-TTL:P3D
REFRESH-INTERVAL:P3D
CALSCALE:GREGORIAN
BEGIN:VEVENT
DTSTART:20100523T190000Z
DTEND:20100523T203000Z
X-MICROSOFT-CDO-ALLDAYEVENT:FALSE
SUMMARY:Old Indio: Last of the Karankawas Book Signing
DESCRIPTION:Come discover a variety of intriguing historical stories about South Padre Island with SPI historian Steve Hathcock\, author of the new book "Old Indio: Last of the Karankawa Indians and Other Stories". This event is free to the public.
X-ALT-DESC;FMTTYPE=text/html:Come discover a variety of intriguing historical stories about South Padre Island with SPI historian Steve Hathcock\, author of the new book "Old Indio: Last of the Karankawa Indians and Other Stories". This event is free to the public.
LOCATION:Brownsville Heritage Complex
UID:e.1828.2528
SEQUENCE:3
DTSTAMP:20260422T063142Z
URL:https://business.harlingen.com/events/details/old-indio-last-of-the-karankawas-book-signing-05-23-2010-2528
END:VEVENT

END:VCALENDAR
