BEGIN:VCALENDAR
VERSION:2.0
PRODID:-//ChamberMaster//Event Calendar 2.0//EN
METHOD:PUBLISH
X-PUBLISHED-TTL:P3D
REFRESH-INTERVAL:P3D
CALSCALE:GREGORIAN
BEGIN:VEVENT
DTSTART:20120205T203000Z
DTEND:20120205T203000Z
X-MICROSOFT-CDO-ALLDAYEVENT:FALSE
SUMMARY:"Once On This Island"
DESCRIPTION:Caribbean-style enchanting musical fable\, Book Lyrics by Lynn Ahrens\, Music by Stephen Flaherty.\nTickets: Adults $10. - Students $5. - (under 18)\nTickets available for purchase at the door one hour before curtain.  website: www.hpatonline.net
X-ALT-DESC;FMTTYPE=text/html:Caribbean-style enchanting musical fable\, Book Lyrics by Lynn Ahrens\, Music by Stephen Flaherty.\nTickets: Adults $10. - Students $5. - (under 18)\nTickets available for purchase at the door one hour before curtain.  website: www.hpatonline.net 
LOCATION:
UID:e.1828.3373
SEQUENCE:3
DTSTAMP:20260420T195406Z
URL:https://business.harlingen.com/events/details/once-on-this-island-02-05-2012-3373
END:VEVENT

END:VCALENDAR
