BEGIN:VCALENDAR
VERSION:2.0
PRODID:-//ChamberMaster//Event Calendar 2.0//EN
METHOD:PUBLISH
X-PUBLISHED-TTL:P3D
REFRESH-INTERVAL:P3D
CALSCALE:GREGORIAN
BEGIN:VEVENT
DTSTART:20100520T150000Z
DTEND:20100520T170000Z
X-MICROSOFT-CDO-ALLDAYEVENT:FALSE
SUMMARY:Opening Doors to Federal Contracting Seminars - Boot Camp/8a/HUBZone Contracting Certifications & 8a Application/BDMIS/
DESCRIPTION:Whether you're just starting a small business or expanding to take advantage of federal contracting opportunities\, your business needs the right tools at the right time in order to succeed. To learn more about programs that might be right for you\, the Small Business Administration will be conducting free seminars for small businesses explaining SBA procurement and certification programs including the 8(a) & HUBZone program scheduled for May 20\, 2010.  Small businesses will learn a step-by-step approach for becoming a general contractor or sub-contractor participating on government contracts.  On May 25\, 2010 from 10:00 am to 12:00 noon plan to attend the second seminar\, 8a Application/BDMIS/CCR.  Seating is limited & seminar is subject to change.  Please call today to (956)427-8533\, Ext. 228 for reservations.
X-ALT-DESC;FMTTYPE=text/html:Whether you're just starting a small business or expanding to take advantage of federal contracting opportunities\, your business needs the right tools at the right time in order to succeed. To learn more about programs that might be right for you\, the Small Business Administration will be conducting free seminars for small businesses explaining SBA procurement and certification programs including the 8(a) & HUBZone program scheduled for May 20\, 2010.  Small businesses will learn a step-by-step approach for becoming a general contractor or sub-contractor participating on government contracts.  On May 25\, 2010 from 10:00 am to 12:00 noon plan to attend the second seminar\, 8a Application/BDMIS/CCR.  Seating is limited & seminar is subject to change.  Please call today to (956)427-8533\, Ext. 228 for reservations.\n
LOCATION:
UID:e.1828.2503
SEQUENCE:3
DTSTAMP:20260422T061713Z
URL:https://business.harlingen.com/events/details/opening-doors-to-federal-contracting-seminars-boot-camp-8a-hubzone-contracting-certifications-8a-application-bdmis-05-20-2010-2503
END:VEVENT

END:VCALENDAR
