BEGIN:VCALENDAR
VERSION:2.0
PRODID:-//ChamberMaster//Event Calendar 2.0//EN
METHOD:PUBLISH
X-PUBLISHED-TTL:P3D
REFRESH-INTERVAL:P3D
CALSCALE:GREGORIAN
BEGIN:VEVENT
DTSTART:20100115T000000Z
DTEND:20100115T020000Z
X-MICROSOFT-CDO-ALLDAYEVENT:FALSE
SUMMARY:Opening Reception for Burgoyne Surrounded: New Quilts from an Old Favorite
DESCRIPTION:Please join us for the opening reception for our latest exhibit\, Burgoyne Surrounded:  New Quilts from an Old Favorite\, on loan from the National Quilt Museum in Paducah\, Kentucky.  Exhibit dates Janauary 14 through March 14.  For more information\, please call 956-216-4901.
X-ALT-DESC;FMTTYPE=text/html:Please join us for the opening reception for our latest exhibit\, Burgoyne Surrounded:  New Quilts from an Old Favorite\, on loan from the National Quilt Museum in Paducah\, Kentucky.  Exhibit dates Janauary 14 through March 14.  For more information\, please call 956-216-4901.\n
LOCATION:Off Loop 499 next to the TSTC Cultural Arts Building.
UID:e.1828.2320
SEQUENCE:3
DTSTAMP:20260422T112352Z
URL:https://business.harlingen.com/events/details/opening-reception-for-burgoyne-surrounded-new-quilts-from-an-old-favorite-01-14-2010-2320
END:VEVENT

END:VCALENDAR
