BEGIN:VCALENDAR
VERSION:2.0
PRODID:-//ChamberMaster//Event Calendar 2.0//EN
METHOD:PUBLISH
X-PUBLISHED-TTL:P3D
REFRESH-INTERVAL:P3D
CALSCALE:GREGORIAN
BEGIN:VEVENT
DTSTART;VALUE=DATE:20101025
DTEND;VALUE=DATE:20101221
TRANSP:TRANSPARENT
X-MICROSOFT-CDO-ALLDAYEVENT:TRUE
SUMMARY:OPERATION: R.G.V. CHRISTMAS CARE -PACKAGES
DESCRIPTION:American Military support is gathering supplies and monetary donations for the distribution of the Christmas care packages. The goal is to lift the morale of our RGV U.S. Troops as they will be away from their family/friends during the holidays. Your participation can help make their Christmas a little brighter. \n\nPlease refer (via website) any RGV service man or woman\, serving overseas\, to receive one of these packages. \nGo to www.americanmilitarysupport.com  for more info regarding the Christmas campaign and drop-off locations.\nWith your help\, we can show our RGV Troops that we care!
X-ALT-DESC;FMTTYPE=text/html:American Military support is gathering supplies and monetary donations for the distribution of the Christmas care packages. The goal is to lift the morale of our RGV U.S. Troops as they will be away from their family/friends during the holidays. Your participation can help make their Christmas a little brighter. \n\nPlease refer (via website) any RGV service man or woman\, serving overseas\, to receive one of these packages. \nGo to www.americanmilitarysupport.com  for more info regarding the Christmas campaign and drop-off locations.\nWith your help\, we can show our RGV Troops that we care!\n\n
LOCATION:
UID:e.1828.2843
SEQUENCE:3
DTSTAMP:20260421T185222Z
URL:https://business.harlingen.com/events/details/operation-r-g-v-christmas-care-packages-10-25-2010-2843
END:VEVENT

END:VCALENDAR
