BEGIN:VCALENDAR
VERSION:2.0
PRODID:-//ChamberMaster//Event Calendar 2.0//EN
METHOD:PUBLISH
X-PUBLISHED-TTL:P3D
REFRESH-INTERVAL:P3D
CALSCALE:GREGORIAN
BEGIN:VEVENT
DTSTART:20110811T223000Z
DTEND:20110811T223000Z
X-MICROSOFT-CDO-ALLDAYEVENT:FALSE
SUMMARY:OrthoCare Grand Opening & Ribbon Cutting
DESCRIPTION:Come celebrate the Grand Opening and Ribbon Cutting ceremony of Orthocare. Open house to follow the event and Hors D'oeuvres will be served.
X-ALT-DESC;FMTTYPE=text/html:Come celebrate the Grand Opening and Ribbon Cutting ceremony of Orthocare. Open house to follow the event and Hors D'oeuvres will be served. \n
LOCATION:
UID:e.1828.3130
SEQUENCE:3
DTSTAMP:20260421T052859Z
URL:https://business.harlingen.com/events/details/orthocare-grand-opening-ribbon-cutting-08-11-2011-3130
END:VEVENT

END:VCALENDAR
