BEGIN:VCALENDAR
VERSION:2.0
PRODID:-//ChamberMaster//Event Calendar 2.0//EN
METHOD:PUBLISH
X-PUBLISHED-TTL:P3D
REFRESH-INTERVAL:P3D
CALSCALE:GREGORIAN
BEGIN:VEVENT
DTSTART:20100331T193000Z
DTEND:20100331T220000Z
X-MICROSOFT-CDO-ALLDAYEVENT:FALSE
SUMMARY:''OSHA Focus Four'' Seminar
DESCRIPTION:On behalf of the Rio South Texas PTAC\, we would like to invite you to our FREE ''OSHA Focus Four'' presentation on March 31st\, 2010 at the UTPA Annex building. This program covers Focus Four Hazards statistics\, how to identify locations of the Focus Four Hazards\, as well as the training requirements for the Focus Four Hazards. The event will take place from 2:30pm to 5pm. For more information\, please feel free to contact (956)292-7535.
X-ALT-DESC;FMTTYPE=text/html:On behalf of the Rio South Texas PTAC\, we would like to invite you to our FREE ''OSHA Focus Four'' presentation on March 31st\, 2010 at the UTPA Annex building. This program covers Focus Four Hazards statistics\, how to identify locations of the Focus Four Hazards\, as well as the training requirements for the Focus Four Hazards. The event will take place from 2:30pm to 5pm. For more information\, please feel free to contact (956)292-7535.
LOCATION:
UID:e.1828.2464
SEQUENCE:3
DTSTAMP:20260422T080726Z
URL:https://business.harlingen.com/events/details/osha-focus-four-seminar-03-31-2010-2464
END:VEVENT

END:VCALENDAR
