BEGIN:VCALENDAR
VERSION:2.0
PRODID:-//ChamberMaster//Event Calendar 2.0//EN
METHOD:PUBLISH
X-PUBLISHED-TTL:P3D
REFRESH-INTERVAL:P3D
CALSCALE:GREGORIAN
BEGIN:VEVENT
DTSTART:20120114T013000Z
DTEND:20120114T013000Z
X-MICROSOFT-CDO-ALLDAYEVENT:FALSE
SUMMARY:Palm Valley Dance Theatre Company presents "Cinderella"
DESCRIPTION:Dance students of Palm Valley Gymnastics and Dance will be performing the ballet "Cinderella"\n\nFor ticket information call 423-6488
X-ALT-DESC;FMTTYPE=text/html:Dance students of Palm Valley Gymnastics and Dance will be performing the ballet "Cinderella"\n\nFor ticket information call 423-6488
LOCATION:Harlingen Municipal Auditorium
UID:e.1828.3406
SEQUENCE:3
DTSTAMP:20260420T213214Z
URL:https://business.harlingen.com/events/details/palm-valley-dance-theatre-company-presents-cinderella-01-13-2012-3406
END:VEVENT

END:VCALENDAR
