BEGIN:VCALENDAR
VERSION:2.0
PRODID:-//ChamberMaster//Event Calendar 2.0//EN
METHOD:PUBLISH
X-PUBLISHED-TTL:P3D
REFRESH-INTERVAL:P3D
CALSCALE:GREGORIAN
BEGIN:VEVENT
DTSTART:20091009T190000Z
DTEND:20091009T190000Z
X-MICROSOFT-CDO-ALLDAYEVENT:FALSE
SUMMARY:Palm Valley Gymnastics & Dance Kids Center Ribbon Cutting
DESCRIPTION:The new facility called the "Kids Center" was especially designed for preschool through junior high students.  It features two large dance studios\, a preschool gymnasium\, a second larger gymnasium for school age students and a pro shop specializing in dance and gymnastic apparel.  Join the Chamber for this special occasion. Enjoy refreshments\, a tour of the new facility and a short exhibition performed by gymnastics team members. \n \nFor more information on the services being offered at Palm Valley Gymnastics & Dance\, call (956) 423-6488.
X-ALT-DESC;FMTTYPE=text/html:The new facility called the "Kids Center" was especially designed for preschool through junior high students.  It features two large dance studios\, a preschool gymnasium\, a second larger gymnasium for school age students and a pro shop specializing in dance and gymnastic apparel.  Join the Chamber for this special occasion. Enjoy refreshments\, a tour of the new facility and a short exhibition performed by gymnastics team members. \n \nFor more information on the services being offered at Palm Valley Gymnastics & Dance\, call (956) 423-6488. \n
LOCATION:
UID:e.1828.2141
SEQUENCE:3
DTSTAMP:20260422T112356Z
URL:https://business.harlingen.com/events/details/palm-valley-gymnastics-dance-kids-center-ribbon-cutting-10-09-2009-2141
END:VEVENT

END:VCALENDAR
